BEGIN:VCALENDAR
VERSION:2.0
PRODID:-//Accelerated Learning Lab - ECPv5.1.5//NONSGML v1.0//EN
CALSCALE:GREGORIAN
METHOD:PUBLISH
X-WR-CALNAME:Accelerated Learning Lab
X-ORIGINAL-URL:https://acceleratedlearninglab.com
X-WR-CALDESC:Events for Accelerated Learning Lab
BEGIN:VTIMEZONE
TZID:UTC
BEGIN:STANDARD
TZOFFSETFROM:+0000
TZOFFSETTO:+0000
TZNAME:UTC
DTSTART:20190101T000000
END:STANDARD
END:VTIMEZONE
BEGIN:VEVENT
DTSTART;TZID=UTC:20190722T100000
DTEND;TZID=UTC:20190722T110000
DTSTAMP:20260421T233642
CREATED:20190613T045404Z
LAST-MODIFIED:20190613T045647Z
UID:500-1563789600-1563793200@acceleratedlearninglab.com
SUMMARY:Reading Workshop 4
DESCRIPTION:Please call 505-934-5907 for more information \n
URL:https://acceleratedlearninglab.com/event/reading-workshop-4-9/
END:VEVENT
END:VCALENDAR