BEGIN:VCALENDAR
VERSION:2.0
PRODID:-//Accelerated Learning Lab - ECPv5.1.5//NONSGML v1.0//EN
CALSCALE:GREGORIAN
METHOD:PUBLISH
X-WR-CALNAME:Accelerated Learning Lab
X-ORIGINAL-URL:https://acceleratedlearninglab.com
X-WR-CALDESC:Events for Accelerated Learning Lab
BEGIN:VTIMEZONE
TZID:UTC
BEGIN:STANDARD
TZOFFSETFROM:+0000
TZOFFSETTO:+0000
TZNAME:UTC
DTSTART:20200101T000000
END:STANDARD
END:VTIMEZONE
BEGIN:VEVENT
DTSTART;TZID=UTC:20200525T110000
DTEND;TZID=UTC:20200525T120000
DTSTAMP:20260426T010504
CREATED:20200502T164214Z
LAST-MODIFIED:20200502T164214Z
UID:937-1590404400-1590408000@acceleratedlearninglab.com
SUMMARY:Monday Math Madness
DESCRIPTION:Have fun with elementary math games. \n
URL:https://acceleratedlearninglab.com/event/monday-math-madness-4/
LOCATION:Online
END:VEVENT
END:VCALENDAR