BEGIN:VCALENDAR
VERSION:2.0
PRODID:-//Accelerated Learning Lab - ECPv5.1.5//NONSGML v1.0//EN
CALSCALE:GREGORIAN
METHOD:PUBLISH
X-WR-CALNAME:Accelerated Learning Lab
X-ORIGINAL-URL:https://acceleratedlearninglab.com
X-WR-CALDESC:Events for Accelerated Learning Lab
BEGIN:VTIMEZONE
TZID:UTC
BEGIN:STANDARD
TZOFFSETFROM:+0000
TZOFFSETTO:+0000
TZNAME:UTC
DTSTART:20200101T000000
END:STANDARD
END:VTIMEZONE
BEGIN:VEVENT
DTSTART;TZID=UTC:20200513T100000
DTEND;TZID=UTC:20200513T110000
DTSTAMP:20260425T033124
CREATED:20200507T181217Z
LAST-MODIFIED:20200507T181217Z
UID:1007-1589364000-1589367600@acceleratedlearninglab.com
SUMMARY:iRead Virtual Workshop
DESCRIPTION:
URL:https://acceleratedlearninglab.com/event/iread-virtual-workshop-3/
LOCATION:Online
END:VEVENT
END:VCALENDAR