BEGIN:VCALENDAR
VERSION:2.0
PRODID:-//Accelerated Learning Lab - ECPv5.1.5//NONSGML v1.0//EN
CALSCALE:GREGORIAN
METHOD:PUBLISH
X-WR-CALNAME:Accelerated Learning Lab
X-ORIGINAL-URL:https://acceleratedlearninglab.com
X-WR-CALDESC:Events for Accelerated Learning Lab
BEGIN:VTIMEZONE
TZID:UTC
BEGIN:STANDARD
TZOFFSETFROM:+0000
TZOFFSETTO:+0000
TZNAME:UTC
DTSTART:20200101T000000
END:STANDARD
END:VTIMEZONE
BEGIN:VEVENT
DTSTART;TZID=UTC:20200427T090000
DTEND;TZID=UTC:20200430T100000
DTSTAMP:20260424T033404
CREATED:20200320T180309Z
LAST-MODIFIED:20200404T224753Z
UID:802-1587978000-1588240800@acceleratedlearninglab.com
SUMMARY:Human Anatomy For Kids (Live Online Course)
DESCRIPTION:Anatomy For Kids will provide students with a multi-sensory experience and a solid foundation for understanding body systems. \nGrades 2-3 \n
URL:https://acceleratedlearninglab.com/event/human-anatomy-for-kids-live-online-course-4/
LOCATION:Online
END:VEVENT
END:VCALENDAR