BEGIN:VCALENDAR
VERSION:2.0
PRODID:-//Accelerated Learning Lab - ECPv5.1.5//NONSGML v1.0//EN
CALSCALE:GREGORIAN
METHOD:PUBLISH
X-WR-CALNAME:Accelerated Learning Lab
X-ORIGINAL-URL:https://acceleratedlearninglab.com
X-WR-CALDESC:Events for Accelerated Learning Lab
BEGIN:VTIMEZONE
TZID:UTC
BEGIN:STANDARD
TZOFFSETFROM:+0000
TZOFFSETTO:+0000
TZNAME:UTC
DTSTART:20200101T000000
END:STANDARD
END:VTIMEZONE
BEGIN:VEVENT
DTSTART;TZID=UTC:20200515T120000
DTEND;TZID=UTC:20200515T130000
DTSTAMP:20260425T130337
CREATED:20200502T165808Z
LAST-MODIFIED:20200502T170431Z
UID:965-1589544000-1589547600@acceleratedlearninglab.com
SUMMARY:Having Fun With Spanish II
DESCRIPTION:Having Fun With Spanish II will provide students with a multi-sensory experience. They will be able to read\, write\, and speak simple words\, preparing them for future language studies. Elementary Grades. \n
URL:https://acceleratedlearninglab.com/event/having-fun-with-spanish-ii-10/
LOCATION:Online
END:VEVENT
END:VCALENDAR