BEGIN:VCALENDAR
VERSION:2.0
PRODID:-//Accelerated Learning Lab - ECPv5.1.5//NONSGML v1.0//EN
CALSCALE:GREGORIAN
METHOD:PUBLISH
X-WR-CALNAME:Accelerated Learning Lab
X-ORIGINAL-URL:https://acceleratedlearninglab.com
X-WR-CALDESC:Events for Accelerated Learning Lab
BEGIN:VTIMEZONE
TZID:UTC
BEGIN:STANDARD
TZOFFSETFROM:+0000
TZOFFSETTO:+0000
TZNAME:UTC
DTSTART:20200101T000000
END:STANDARD
END:VTIMEZONE
BEGIN:VEVENT
DTSTART;TZID=UTC:20200526T100000
DTEND;TZID=UTC:20200526T230000
DTSTAMP:20260426T041121
CREATED:20200502T164806Z
LAST-MODIFIED:20200502T164806Z
UID:945-1590487200-1590534000@acceleratedlearninglab.com
SUMMARY:Having Fun With Spanish I Review
DESCRIPTION:
URL:https://acceleratedlearninglab.com/event/having-fun-with-spanish-i-review-4/
LOCATION:Online
END:VEVENT
END:VCALENDAR