BEGIN:VCALENDAR
VERSION:2.0
PRODID:-//Accelerated Learning Lab - ECPv5.1.5//NONSGML v1.0//EN
CALSCALE:GREGORIAN
METHOD:PUBLISH
X-WR-CALNAME:Accelerated Learning Lab
X-ORIGINAL-URL:https://acceleratedlearninglab.com
X-WR-CALDESC:Events for Accelerated Learning Lab
BEGIN:VTIMEZONE
TZID:UTC
BEGIN:STANDARD
TZOFFSETFROM:+0000
TZOFFSETTO:+0000
TZNAME:UTC
DTSTART:20200101T000000
END:STANDARD
END:VTIMEZONE
BEGIN:VEVENT
DTSTART;TZID=UTC:20200427T103000
DTEND;TZID=UTC:20200430T113000
DTSTAMP:20260424T051251
CREATED:20200320T175339Z
LAST-MODIFIED:20200404T224723Z
UID:787-1587983400-1588246200@acceleratedlearninglab.com
SUMMARY:Having Fun With Spanish I (Live Online Course)
DESCRIPTION:Having Fun With Spanish I will provide the students with a multi-sensory experience\, forming a solid foundation for future language studies. Workshop includes songs\, games\, activities. \nGrades 2-3 \n
URL:https://acceleratedlearninglab.com/event/having-fun-with-spanish-i-live-online-course-4/
LOCATION:Online
END:VEVENT
END:VCALENDAR