BEGIN:VCALENDAR
VERSION:2.0
PRODID:-//Accelerated Learning Lab - ECPv5.1.5//NONSGML v1.0//EN
CALSCALE:GREGORIAN
METHOD:PUBLISH
X-WR-CALNAME:Accelerated Learning Lab
X-ORIGINAL-URL:https://acceleratedlearninglab.com
X-WR-CALDESC:Events for Accelerated Learning Lab
BEGIN:VTIMEZONE
TZID:UTC
BEGIN:STANDARD
TZOFFSETFROM:+0000
TZOFFSETTO:+0000
TZNAME:UTC
DTSTART:20200101T000000
END:STANDARD
END:VTIMEZONE
BEGIN:VEVENT
DTSTART;TZID=UTC:20200401T110000
DTEND;TZID=UTC:20200401T120000
DTSTAMP:20260422T215720
CREATED:20200328T172632Z
LAST-MODIFIED:20200328T172632Z
UID:820-1585738800-1585742400@acceleratedlearninglab.com
SUMMARY:Engineers Make A Difference
DESCRIPTION:Mr. Pablo Garcia will give an overview of different engineering fields and how those fields impact our everyday lives. \n
URL:https://acceleratedlearninglab.com/event/engineers-make-a-difference/
LOCATION:Online
END:VEVENT
END:VCALENDAR