BEGIN:VCALENDAR
VERSION:2.0
PRODID:-//Accelerated Learning Lab - ECPv5.1.5//NONSGML v1.0//EN
CALSCALE:GREGORIAN
METHOD:PUBLISH
X-WR-CALNAME:Accelerated Learning Lab
X-ORIGINAL-URL:https://acceleratedlearninglab.com
X-WR-CALDESC:Events for Accelerated Learning Lab
BEGIN:VTIMEZONE
TZID:UTC
BEGIN:STANDARD
TZOFFSETFROM:+0000
TZOFFSETTO:+0000
TZNAME:UTC
DTSTART:20190101T000000
END:STANDARD
END:VTIMEZONE
BEGIN:VEVENT
DTSTART;TZID=UTC:20190728T090000
DTEND;TZID=UTC:20190728T110000
DTSTAMP:20260422T194514
CREATED:20190613T041136Z
LAST-MODIFIED:20190613T041153Z
UID:395-1564304400-1564311600@acceleratedlearninglab.com
SUMMARY:College 101: From Application to Graduation
DESCRIPTION:Join Landon Davis and Glenda Durano in learning about applications\, scholarships\, school selection\, financial decision making\, and other topics such as standardized test\, grades\, and how to build a resume for college applications. \n
URL:https://acceleratedlearninglab.com/event/college-101-from-application-to-graduation-4/
END:VEVENT
END:VCALENDAR