BEGIN:VCALENDAR
VERSION:2.0
PRODID:-//Accelerated Learning Lab - ECPv5.1.5//NONSGML v1.0//EN
CALSCALE:GREGORIAN
METHOD:PUBLISH
X-WR-CALNAME:Accelerated Learning Lab
X-ORIGINAL-URL:https://acceleratedlearninglab.com
X-WR-CALDESC:Events for Accelerated Learning Lab
BEGIN:VTIMEZONE
TZID:UTC
BEGIN:STANDARD
TZOFFSETFROM:+0000
TZOFFSETTO:+0000
TZNAME:UTC
DTSTART:20200101T000000
END:STANDARD
END:VTIMEZONE
BEGIN:VEVENT
DTSTART;TZID=UTC:20200407T150000
DTEND;TZID=UTC:20200407T160000
DTSTAMP:20260423T091851
CREATED:20200331T190046Z
LAST-MODIFIED:20200331T190046Z
UID:824-1586271600-1586275200@acceleratedlearninglab.com
SUMMARY:Coffee and Calculus
DESCRIPTION:Having trouble with calculus? Need some help? Join us online every Tuesday for calculus discussion\, problem solving\, and homework help. \n
URL:https://acceleratedlearninglab.com/event/coffee-and-calculus-4/
LOCATION:Online
END:VEVENT
END:VCALENDAR