BEGIN:VCALENDAR
VERSION:2.0
PRODID:-//Accelerated Learning Lab - ECPv5.1.5//NONSGML v1.0//EN
CALSCALE:GREGORIAN
METHOD:PUBLISH
X-WR-CALNAME:Accelerated Learning Lab
X-ORIGINAL-URL:https://acceleratedlearninglab.com
X-WR-CALDESC:Events for Accelerated Learning Lab
BEGIN:VTIMEZONE
TZID:UTC
BEGIN:STANDARD
TZOFFSETFROM:+0000
TZOFFSETTO:+0000
TZNAME:UTC
DTSTART:20190101T000000
END:STANDARD
END:VTIMEZONE
BEGIN:VEVENT
DTSTART;TZID=UTC:20190722T090000
DTEND;TZID=UTC:20190722T110000
DTSTAMP:20260421T214503
CREATED:20190613T163104Z
LAST-MODIFIED:20190613T163104Z
UID:640-1563786000-1563793200@acceleratedlearninglab.com
SUMMARY:Back to School Workshop: Geometry
DESCRIPTION:\nSuitable for 8th – 12th Grade \nPlease call 505-934-5907 for more information \n\n
URL:https://acceleratedlearninglab.com/event/back-to-school-workshop-geometry/
END:VEVENT
END:VCALENDAR